Workbook
Name ScalesList: '[1]Report Form'!$A$5:$A$8

Sheet Feuillet de conversion
B2: DATASTRUCTURE | C2: IMF:ECOFIN_DSD(1.0) | D2: Datastructure
B3: DATASTRUCTURE_NAME | C3: ECOFIN Data Structure Definition | D3: Datastructure Name
B4: DATA_DOMAIN | C4: ILV2 | D4: Dataset
B5: REF_AREA | C5: TN | D5: Country
B6: COUNTERPART_AREA | C6: _Z | D6: Counterpart area
B7: UNIT_MULT | C7: 6 | D7: ="Scale = "&IF(C7=0,"Unit",(IF(C7=3,"Thousand",(IF(C7=6,"Million",(IF(C7=9,"Billion"))))))) -> Scale = Million
B8: FREQ | C8: M | D8: ="Frequency = "&IF(C8="A","Annual",IF(C8="Q", "Quarterly", "Monthly")) -> Frequency = Monthly
B9: COMMENT | D9: Source / Observation status
B11: Country code | C11: Descriptor | D11: Indicateur | E11: INDICATOR | F11: Units | G11: Scale | H11: 2015-01 | I11: 2015-02 | J11: 2015-03 | K11: 2015-04 | L11: 2015-05 | M11: 2015-06 | N11: 2015-07 | O11: 2015-08 | P11: 2015-09 | Q11: 2015-10 | R11: 2015-11 | S11: 2015-12 | T11: 2016-01 | U11: 2016-02 | V11: 2016-03 | W11: 2016-04 | X11: 2016-05 | Y11: 2016-06 | Z11: 2016-07 | AA11: 2016-08 | AB11: 2016-09 | AC11: 2016-10 | AD11: 2016-11 | AE11: 2016-12 | AF11: 2017-01 | AG11: 2017-02 | AH11: 2017-03 | AI11: 2017-04 | AJ11: 2017-05 | AK11: 2017-06 | AL11: 2017-07 | AM11: 2017-08 | AN11: 2017-09 | AO11: 2017-10 | AP11: 2017-11 | AQ11: 2017-12 | AR11: 2018-01 | AS11: 2018-02 | AT11: 2018-03 | AU11: 2018-04 | AV11: 2018-05 | AW11: 2018-06 | AX11: 2018-07 | AY11: 2018-08 | AZ11: 2018-09 | BA11: 2018-10 | BB11: 2018-11 | BC11: 2018-12 | BD11: 2019-01 | BE11: 2019-02 | BF11: 2019-03 | BG11: 2019-04 | BH11: 2019-05 | BI11: 2019-06 | BJ11: 2019-07 | BK11: 2019-08 | BL11: 2019-09 | BM11: 2019-10 | BN11: 2019-11 | BO11: 2019-12 | BP11: 2020-01 | BQ11: 2020-02 | BR11: 2020-03 | BS11: 2020-04 | BT11: 2020-05 | BU11: 2020-06 | BV11: 2020-07 | BW11: 2020-08 | BX11: 2020-09 | BY11: 2020-10 | BZ11: 2020-11 | CA11: 2020-12 | CB11: 2021-01 | CC11: 2021-02 | CD11: 2021-03 | CE11: 2021-04 | CF11: 2021-05 | CG11: 2021-06 | CH11: 2021-07 | CI11: 2021-08 | CJ11: 2021-09 | CK11: 2021-10 | CL11: 2021-11 | CM11: 2021-12 | CN11: 2022-01 | CO11: 2022-02 | CP11: 2022-03 | CQ11: 2022-04 | CR11: 2022-05 | CS11: 2022-06 | CT11: 2022-07 | CU11: 2022-08 | CV11: 2022-09 | CW11: 2022-10 | CX11: 2022-11 | CY11: 2022-12 | CZ11: 2023-01 | DA11: 2023-02 | DB11: 2023-03 | DC11: 2023-04 | DD11: 2023-05 | DE11: 2023-06 | DF11: 2023-07 | DG11: 2023-08 | DH11: 2023-09 | DI11: 2023-10 | DJ11: 2023-11 | DK11: 2023-12 | DL11: 2024-01 | DM11: 2024-02 | DN11: 2024-03 | DO11: 2024-04 | DP11: 2024-05 | DQ11: 2024-06 | DR11: 2024-07 | DS11: 2024-08 | DT11: 2024-09 | DU11: 2024-10 | DV11: 2024-11 | DW11: 2024-12 | DX11: 2025-01 | DY11: 2025-02 | DZ11: 2025-03 | EA11: 2025-04 | EB11: 2025-05 | EC11: 2025-06 | ED11: 2025-07 | EE11: 2025-08 | EF11: 2025-09 | EG11: 2025-10 | EH11: 2025-11 | EI11: 2025-12 | EJ11: 2026-01 | EK11: 2026-02 | EL11: 2026-03 | EM11: 2026-04 | EN11: 2026-05 | EO11: 2026-06 | EP11: 2026-07 | EQ11: 2026-08
C12: I. Official reserve assets and other foreign currency assets (approximate market value) | D12: I. Avoirs de réserve officiels et autres avoirs en devises (valeur marchande approximative)
B13: MAU_RAFA_XDC | C13: A. Official reserve assets | D13: A. Avoirs de réserve officiels | E13: MAU_RAFA_XDC | F13: Tunisian dinar | G13: Millions | H13: 16,189.4 | I13: 16,035.9 | J13: 15,693.5 | K13: 15,007.9 | L13: 14,914.8 | M13: 14,254.7 | N13: 14.347 | O13: 14,035,5 | P13: 13.681 | Q13: 14,332,8 | R13: 13.402 | S13: 15,039,8 | T13: 14,257,7 | U13: 13,599,1 | V13: 13,960,5 | W13: 12,012,3 | X13: 12.893.575 | Y13: 13.045.794 | Z13: 13.132.156 | AA13: 13.889.3 | AB13: 13.613.8 | AC13: 14.122.9 | AD13: 13.097,3 | AE13: 13.896,4 | AF13: 13.176,8 | AG13: 14.580,2 | AH13: 13.631.0 | AI13: 13.426.0 | AJ13: 12.893.575 | AK13: 13,045,794 | AL13: 12,121,9 | AM13: 14,257,4 | AN13: 14,045,3 | AO13: 13,772,4 | AP13: 13,299,9 | AQ13: 13,894,02 | AR13: 13,094,2 | AS13: 12,599,0 | AT13: 12.368,7 | AU13: 12,262,4 | AV13: 12,153,2 | AW13: 12,360,2 | AX13: 12,121,9 | AZ13: 13,186.4 | BA13: 14,877.9 | BB13: 14,125.7 | BC13: 15,547.2 | BD13: 16,100.6 | BE13: 16,238.7 | BF13: 16.621 | BG13: 22,841.2 | BH13: 14,512.2 | BI13: 14,720.7 | BJ13: 18,0325.5 | BK13: 18,984.7 | BL13: 19,730.2 | BM13: 19,980.5 | BN13: 20,467.5 | BO13: 20,774.7 | BP13: 21,011.9 | BQ13: 20,685.6 | BR13: 21,726.6 | BS13: 22,841.2 | BT13: 23 ,026,2 | BU13: 21,865.8 | BV13: 22,653.7 | BW13: 22,742.6 | BX13: 22,841.3 | BY13: 22,637.6 | BZ13: 23571.9 | CA13: 24653 | CB13: 24151.5 | CC13: 23536.9 | CD13: 23437 | CE13: 22705 | CF13: 21865.8 | CG13: 23,022.5 | CH13: 22309.4 | CI13: 23743.9 | CJ13: 23227.3 | CK13: 23002.2 | CL13: 22142.4 | CM13: 24982.0 | CN13: 24792.4 | CO13: 25188.2 | CP13: 24209.8 | CQ13: 25715.1 | CR13: 26330 | CS13: 25799.4 | CT13: 25400.3 | CU13: 25,765.7 | CV13: 24,745.5 | CW13: 24,184.5 | CX13: 23,463.8 | CY13: 24.440.9 | CZ13: 23.823.9 | DA13: 23.585.2 | DB13: 23.493.2 | DC13: 23.899.8 | DD13: 23.236.3 | DE13: 24437.0 | DF13: 24808.6 | DG13: 27,919.7 | DH13: 28304 | DI13: 26,685.5 | DJ13: 26 527.2 | DK13: 27 816.6 | DL13: 27,550.7 | DM13: 24,556.7 | DN13: 24,876.3 | DO13: 25.141.4 | DP13: 24367.5 | DQ13: 25641.8 | DR13: 26047.75 | DS13: 27267.752 | DT13: 27296.312 | DU13: 26392.732 | DV13: 27396.701 | DW13: 29128.8 | DX13: 25189.472 | DY13: 25153.264 | DZ13: 25033.471 | EA13: 24546.656 | EB13: 24674.6 | EC13: 24941.36 | ED13: 25432.7 | EE13: 27011.7 | EF13: 26504.7 | EG13: 26811.821 | EH13: 26848.005 | EI13: 27331.862 | EJ13: 28120.66 | EK13: 27811.877 | EL13: 27062.465 | EM13: 27747.4 | EN13: 28065.306 | EO13: 27328.93 | EP13: 25538.251 | EQ13: 28013.777
B14: MAU_RAFAFX_XDC | C14: (1) Foreign currency reserves (in convertible foreign currencies) | D14: (1) Réserves en devises (en devises étrangères convertibles) | E14: MAU_RAFAFX_XDC | F14: Tunisian dinar | G14: Millions | H14: 14,717.3 | I14: 14,589.5 | J14: 14,322.9 | K14: 13,623.1 | L14: 13.485 | M14: 12,833.2 | N14: 12,907.9 | O14: 12,565,9 | P14: 12,311,7 | Q14: 12,885,4 | R14: 12,075,3 | S14: 13,740,8 | T14: 12,945,1 | U14: 12,320,8 | V14: 11.95 | W14: 10,646,6 | X14: 11.484.0 | Y14: 11.484.0 | Z14: 11.480.0 | AA14: 12.137.8 | AB14: 12.002.0 | AC14: 12.541.2 | AD14: 11.662.5 | AE14: 12.478.8 | AF14: 11.823.4 | AG14: 13.299.7 | AH14: 12.327.3 | AI14: 12.879.5 | AJ14: 11.484.0 | AK14: 11.484 | AL14: 9,946,687 | AM14: 12,158,413 | AN14: 11,945,653 | AO14: 11,798,207 | AP14: 11,453,163 | AQ14: 12,020,057 | AR14: 11,151,176 | AS14: 10,777,769 | AT14: 10.572,332 | AU14: 10,354,794 | AV14: 10,219,649 | AW14: 10,479,918 | AX14: 9,946,687 | AZ14: 10,307.113 | BA14: 12,153.953 | BB14: 11,787.420 | BC14: 13,281.173 | BD14: 13,708.353 | BE14: 14,040.945 | BF14: 14,470.418 | BG14: 20,249.9 | BH14: 12,269.343 | BI14: 12,195.6 | BJ14: 15,048.6 | BK14: 15,301.508 | BL14: 15,975.7 | BM14: 16,438.9 | BN14: 17,131.5 | BO14: 17,531.6 | BP14: 17,443.3 | BQ14: 17,898.3 | BR14: 19,210.1 | BS14: 20,249.9 | BT14: 20,449,5 | BU14: 19,221.3 | BV14: 19,729.1 | BW14: 19,519.8 | BX14: 19,486.1 | BY14: 19,325.5 | BZ14: 20894.1 | CA14: 22283.2 | CB14: 21609 | CC14: 21102.1 | CD14: 20917.1 | CE14: 20177.3 | CF14: 10221.3 | CG14: 20,123.3 | CH14: 18667.9 | CI14: 17646.1 | CJ14: 19712.1 | CK14: 19736.6 | CL14: 18643.6 | CM14: 21552.5 | CN14: 21523.4 | CO14: 21944.1 | CP14: 21140.9 | CQ14: 22470.8 | CR14: 23003 | CS14: 22569.7 | CT14: 21511.4 | CU14: 21902.3 | CV14: 21,241.6 | CW14: 20,944.9 | CX14: 20,673.5 | CY14: 21.646.9 | CZ14: 20.826.5 | DA14: 20.705.2 | DB14: 20.601.1 | DC14: 20.746.3 | DD14: 20.110.9 | DE14: 21.472.9 | DF14: 21.246.1 | DG14: 24,369.3 | DH14: 25085.3 | DI14: 23,632.1 | DJ14: 23420 | DK14: 24.916.0 | DL14: 24,549.6 | DM14: 21,872.0 | DN14: 22,157.4 | DO14: 22,273.9 | DP14: 21437.7 | DQ14: 22458 | DR14: 22625.638 | DS14: 23268.931 | DT14: 23876.81 | DU14: 22807.626 | DV14: 23901.374 | DW14: 25962.1 | DX14: 21800.875 | DY14: 22125.63 | DZ14: 21885.88 | EA14: 21118.405 | EB14: 21222.5 | EC14: 21135.301 | ED14: 20881.2 | EE14: 21539.6 | EF14: 22899.3 | EG14: 23306.547 | EH14: 23295.211 | EI14: 23788.316 | EJ14: 24443.576 | EK14: 24116.607 | EL14: 23607.733 | EM14: 24111.2 | EN14: 24492.346 | EO14: 23767.566 | EP14: 21604.873 | EQ14: 23667.767
B15: MAU_RAFAFXS_XDC | C15: (a) Securities | D15: a) Titres | E15: MAU_RAFAFXS_XDC | F15: Tunisian dinar | G15: Millions | H15: 7,087.2 | I15: 8,451.4 | J15: 9,149.6 | K15: 9,246.6 | L15: 9,465.6 | M15: 9,460.7 | N15: 8,958.6 | O15: 8,839,1 | P15: 8,439,7 | Q15: 6,841,8 | R15: 8,194,7 | S15: 8,089,8 | T15: 8,364,2 | U15: 80.072 | V15: 8,271,5 | W15: 8,386,1 | X15: 8.526.3 | Y15: 8.983.3 | Z15: 8.406 | AA15: 8.501.5 | AB15: 8.021.3 | AC15: 7.842.8 | AD15: 8.262.1 | AE15: 7.944.0 | AF15: 7.257.3 | AG15: 7.950.1 | AH15: 6.999.8 | AI15: 7.062.9 | AJ15: 8.526.3 | AK15: 8.983 | AL15: 4880.3 | AM15: 6807.7 | AN15: 6784.7 | AO15: 6,225,8 | AP15: 6004.9 | AQ15: 5,353,5 | AR15: 5163.2 | AS15: 4749.7 | AT15: 4667.1 | AU15: 4502.5 | AV15: 4804.5 | AW15: 5160.1 | AX15: 4880.3 | AZ15: 5,053.6 | BA15: 4,931.4 | BB15: 4,471.8 | BC15: 4,259.4 | BD15: 4,318.3 | BE15: 5,041.7 | BF15: 4,711.6 | BG15: 8,472.7 | BH15: 3,888.1 | BI15: 3,376.4 | BJ15: 3,498.5 | BK15: 3,556.0 | BL15: 4,364.8 | BM15: 3,379.4 | BN15: 5,628.6 | BO15: 5,177.7 | BP15: 5,001.6 | BQ15: 6,174.7 | BR15: 8,716.3 | BS15: 8,472.7 | BT15: 10, 907,0 | BU15: 10,820.0 | BV15: 10,777.7 | BW15: 13,302.7 | BX15: 13,936.8 | BY15: 14,157.6 | BZ15: 13182.2 | CA15: 130034 | CB15: 12900.2 | CC15: 12785.1 | CD15: 13009.7 | CE15: 12134 | CF15: 10820 | CG15: 11,371.2 | CH15: 9781.3 | CI15: 8985.9 | CJ15: 9,476.0 | CK15: 9740.7 | CL15: 9849.1 | CM15: 10354.3 | CN15: 11071.1 | CO15: 12610.6 | CP15: 11246.2 | CQ15: 11455.2 | CR15: 10477.1 | CS15: 10769.3 | CT15: 10125 | CU15: 9991 | CV15: 10,645.5 | CW15: 10.640.6 | CX15: 10,437.4 | CY15: 10.195 | CZ15: 10.710.7 | DA15: 10.959.5 | DB15: 10.784.7 | DC15: 10.841.3 | DD15: 9.853.3 | DE15: 8.367.7 | DF15: 7.754.6 | DG15: 8,846.3 | DH15: 9892.1 | DI15: 9135.6 | DJ15: 10 731.4 | DK15: 11. 476.0 | DL15: 8,388.4 | DM15: 8,659.9 | DN15: 8,651.0 | DO15: 9.048.2 | DP15: 8848.3 | DQ15: 10504.7 | DR15: 11640.806 | DS15: 11203.954 | DT15: 12613.461 | DU15: 12885.932 | DV15: 12671.111 | DW15: 14667.5 | DX15: 11138.821 | DY15: 12564.052 | DZ15: 12573.173 | EA15: 13032.042 | EB15: 12921.8 | EC15: 12331.914 | ED15: 12337.7 | EE15: 13459.6 | EF15: 14608.8 | EG15: 14367.921 | EH15: 15078.393 | EI15: 15912.652 | EJ15: 14791.645 | EK15: 14555.251 | EL15: 14960.017 | EM15: 14414.4 | EN15: 13957.478 | EO15: 14135.309 | EP15: 12376.708 | EQ15: 12066.673
B16: MAU_RAFAFXSI_XDC | C16: of which: issuer headquartered in reporting country but located abroad | D16: dont : émetteur ayant son siège dans le pays déclarant mais situé à l'étranger | E16: MAU_RAFAFXSI_XDC | F16: Tunisian dinar | G16: Millions
B17: MAU_RAFAFXCD_XDC | C17: (b) total currency and deposits with: | D17: (b) total du numéraire et des dépôts auprès de : | E17: MAU_RAFAFXCD_XDC | F17: Tunisian dinar | G17: Millions | CZ17: 10.115.9 | DA17: 9.745.6 | DB17: 9.816.3 | DC17: 9.905.0 | DD17: 10.257.5 | DE17: 13105.2 | DF17: 13491.5 | DG17: 15.523 | DH17: 15.193.2 | DI17: 14.496.4 | DJ17: 12721.6 | DK17: 13.439.9 | DL17: 16,161.2 | DM17: 13,212.1 | DN17: 13,506.4 | DO17: 13,225.7 | DP17: 12589.4 | DQ17: 11953.3 | DR17: 10984.832 | DS17: 12064.978 | DT17: 11263.348 | DU17: 9921.6946 | DV17: 11230.263 | DW17: 11294.6 | DX17: 10662.054 | DY17: 9561.5778 | DZ17: 9312.7077 | EA17: 8086.3633 | EB17: 8300.7 | EC17: 8803.3865 | ED17: 8543.5 | EE17: 8080 | EF17: 8290.5 | EG17: 8938.6255 | EH17: 8216.8183 | EI17: 7875.6631 | EJ17: 9651.9307 | EK17: 9561.3556 | EL17: 8647.7164 | EM17: 9696.8 | EN17: 10534.868 | EO17: 9632.2574 | EP17: 9228.1649 | EQ17: 11601.095
B18: MAU_RAFAFXCDN_XDC | C18: (i) other national central banks, BIS and IMF | D18: (i) autres banques centrales nationales, BRI et FMI | E18: MAU_RAFAFXCDN_XDC | F18: Tunisian dinar | G18: Millions | H18: 1,475.6 | I18: 1,506.8 | J18: 1,452.5 | K18: 1516.5 | L18: 1369 | M18: 1459.9 | N18: 1382.2 | O18: 1361.7 | P18: 1421.7 | Q18: 1507.4 | R18: 1419.7 | S18: 1291.9 | T18: 565.9 | U18: 680.7 | V18: 586.9 | W18: 537.7 | X18: 506.5 | Y18: 588.3 | Z18: 449.9 | AA18: 492.7 | AB18: 235.4 | AC18: 132.2 | AD18: 313.1 | AE18: 373.6 | AF18: 58.4 | AG18: 154.1 | AH18: 185.2 | AI18: 59.8 | AJ18: 506.5 | AK18: 588.3 | AL18: 900.3 | AM18: 166.9 | AN18: 374.5 | AO18: 183.8 | AP18: 440.8 | AQ18: 463.5 | AR18: 483.3 | AS18: 486.7 | AT18: 632.7 | AU18: 375.1 | AV18: 157.9 | AW18: 8.7 | AX18: 900.3 | AZ18: 698.8 | BA18: 473.2 | BB18: 380.1 | BC18: 1299.3 | BD18: 1144.2 | BE18: 673.3 | BF18: 1289.7 | BG18: 1,001.3 | BH18: 769.0 | BI18: 554.0 | BJ18: 153.3 | BK18: 353.6 | BL18: 713.2 | BM18: 693.7 | BN18: 1,605.4 | BO18: 1,965.2 | BP18: 1,347.1 | BQ18: 1,078.4 | BR18: 1,052.6 | BS18: 1,001.3 | BT18: 914.3 | BU18: 872.1 | BV18: 674 | BW18: 636 | BX18: 493.2 | BY18: 494.0 | BZ18: 505.6 | CA18: 815.7 | CB18: 790 | CC18: 860.7 | CD18: 924.9 | CE18: 979.2 | CF18: 872.1 | CG18: 569.8 | CH18: 480.8 | CI18: 522.5 | CJ18: 501.5 | CK18: 618 | CL18: 689.9 | CM18: 935.1 | CN18: 874.2 | CO18: 648.1 | CP18: 543 | CQ18: 627.7 | CR18: 911.82 | CS18: 800.3 | CT18: 801 | CU18: 598 | CV18: 1267.1 | CW18: 1082.8 | CX18: 1,073.3 | CY18: 1,203.2 | CZ18: 827.2 | DA18: 872.75 | DB18: 759.33 | DC18: 701.99 | DD18: 588.62 | DE18: 1097.56 | DF18: 727.01 | DG18: 1066.73 | DH18: 713.2 | DI18: 875.4 | DJ18: 581.8 | DK18: 1.222.6 | DL18: 617.2 | DM18: 616.5 | DN18: 774.7 | DO18: 901.4 | DP18: 811.7 | DQ18: 704.9 | DR18: 855.80382 | DS18: 855.7686 | DT18: 996.78148 | DU18: 768.95073 | DV18: 786.81352 | DW18: 1064.9 | DX18: 479.00173 | DY18: 664.78555 | DZ18: 739.24186 | EA18: 670.57519 | EB18: 597.8 | EC18: 770.55435 | ED18: 602.1 | EE18: 598.3 | EF18: 816.8 | EG18: 690.16194 | EH18: 831.72138 | EI18: 914.93991 | EJ18: 854.63785 | EK18: 957.34627 | EL18: 893.24178 | EM18: 954.4 | EN18: 835.56476 | EO18: 333.80781 | EP18: 556.8427 | EQ18: 823.34821
B19: MAU_RAFAFXCDBI_XDC | C19: (ii) banks headquartered in the reporting country | D19: (ii) les banques ayant leur siège dans le pays déclarant | E19: MAU_RAFAFXCDBI_XDC | F19: Tunisian dinar | G19: Millions
B20: MAU_RAFAFXCDBIA_XDC | C20: of which: located abroad | D20: dont : situé à l'étranger | E20: MAU_RAFAFXCDBIA_XDC | F20: Tunisian dinar | G20: Millions
B21: MAU_RAFAFXCDBO_XDC | C21: (iii) banks headquartered outside the reporting country | D21: (iii) les banques ayant leur siège en dehors du pays déclarant | E21: MAU_RAFAFXCDBO_XDC | F21: Tunisian dinar | G21: Millions | H21: 6,154.5 | I21: 4,631.3 | J21: 3,720.8 | K21: 2860 | L21: 2650.4 | M21: 1912.7 | N21: 2567.1 | O21: 2365.2 | P21: 2450.4 | Q21: 4536.2 | R21: 2460.9 | S21: 4359.2 | T21: 4015.1 | U21: 3568 | V21: 3091.5 | W21: 1722.8 | X21: 2451.2 | Y21: 1916.8 | Z21: 2624.6 | AA21: 3179.6 | AB21: 3746.2 | AC21: 4566.2 | AD21: 3087.3 | AE21: 4161.2 | AF21: 4507.7 | AG21: 5195.5 | AH21: 5142.3 | AI21: 5756.8 | AJ21: 2451.2 | AK21: 1916.8 | AL21: 4166.1 | AM21: 5183.8 | AN21: 4786.5 | AO21: 5,388,6 | AP21: 5007.4 | AQ21: 6203.1 | AR21: 5504.7 | AS21: 5541.7 | AT21: 424.3 | AU21: 5477.1 | AV21: 5257.3 | AW21: 5307.1 | AX21: 4166.1 | AZ21: 4554.7 | BA21: 6749.4 | BB21: 6935.5 | BC21: 7722.5 | BD21: 8245.8 | BE21: 8326.0 | BF21: 8469.1 | BG21: 10080.2 | BH21: 7612.2 | BI21: 8265.2 | BJ21: 11,396.8 | BK21: 11,391.8 | BL21: 10,897.7 | BM21: 11,765.9 | BN21: 9,897.5 | BO21: 10,388.7 | BP21: 11,094.6 | BQ21: 10,645.1 | BR21: 9441.3 | BS21: 10080.2 | BT21: 8628.2 | BU21: 7,529.3 | BV21: 8277.4 | BW21: 5,580.8 | BX21: 5,056.1 | BY21: 4,673.9 | BZ21: 7206.3 | CA21: 8433.5 | CB21: 7918.8 | CC21: 7456.3 | CD21: 7056.5 | CE21: 7066.2 | CF21: 7529.3 | CG21: 8,182.3 | CH21: 8738.7 | CI21: 8137.8 | CJ21: 9,735.3 | CK21: 9378 | CL21: 8059.5 | CM21: 10263.1 | CN21: 9578.3 | CO21: 8685.1 | CP21: 9351.8 | CQ21: 10387.8 | CR21: 11614.1 | CS21: 10793.1 | CT21: 10585.4 | CU21: 10585.4 | CV21: 9328.4 | CW21: 9221.5 | CX21: 9,162.9 | CY21: 10.248.6 | CZ21: 9.288.6 | DA21: 8.872.9 | DB21: 9.057.0 | DC21: 9.203 | DD21: 9.668.9 | DE21: 12007.7 | DF21: 12746.5 | DG21: 14456.3 | DH21: 14479.9 | DI21: 13621.0 | DJ21: 14479.9 | DK21: 12.117.3 | DL21: 15,544.0 | DM21: 12,595.7 | DN21: 12,731.6 | DO21: 12,324.3 | DP21: 11777.7 | DQ21: 11248.4 | DR21: 10129.029 | DS21: 11209.209 | DT21: 10266.567 | DU21: 9152.7439 | DV21: 10443.449 | DW21: 10229.7 | DX21: 10183.052 | DY21: 8896.7922 | DZ21: 8573.4658 | EA21: 7415.7881 | EB21: 7702.9 | EC21: 8032.8322 | ED21: 7941.3 | EE21: 7481.7 | EF21: 7473.8 | EG21: 8248.4636 | EH21: 7385.0969 | EI21: 6960.7232 | EJ21: 8797.2929 | EK21: 8604.0093 | EL21: 7754.4746 | EM21: 8742.4 | EN21: 9699.3032 | EO21: 9298.4496 | EP21: 8671.3222 | EQ21: 10777.747
B22: MAU_RAFAFXCDBOA_XDC | C22: of which: located in the reporting country | D22: dont : situé dans le pays déclarant | E22: MAU_RAFAFXCDBOA_XDC | F22: Tunisian dinar | G22: Millions
B23: MAU_RAFAIMF_XDC | C23: (2) IMF reserve position | D23: (2) Position de réserve au FMI | E23: MAU_RAFAIMF_XDC | F23: Tunisian dinar | G23: Millions | H23: 139.4 | I23: 139.5 | J23: 139.4 | K23: 139.6 | L23: 153.1 | M23: 153.1 | N23: 153.1 | O23: 153.1 | P23: 153.1 | Q23: 139.4 | R23: 153.1 | S23: 153.1 | T23: 153.1 | U23: 328.5 | V23: 328.5 | W23: 328.5 | X23: 345.8 | Y23: 345.9 | Z23: 345.9 | AA23: 345.9 | AB23: 345.9 | AC23: 345.9 | AD23: 345.9 | AE23: 345.9 | AF23: 345.9 | AG23: 345.9 | AH23: 345.9 | AI23: 345.9 | AJ23: 345.8 | AK23: 345.9 | AL23: 423.9 | AM23: 400.6 | AN23: 400.6 | AO23: 400.6 | AP23: 400.6 | AQ23: 400.6 | AR23: 400.7 | AS23: 400.7 | AT23: 400.7 | AU23: 400.7 | AV23: 423.9 | AW23: 423.9 | AX23: 423.9 | AZ23: 423.9 | BA23: 423.9 | BB23: 423.9 | BC23: 423.9 | BD23: 423.9 | BE23: 423.9 | BF23: 423.9 | BG23: 64.0 | BH23: 423.9 | BI23: 503.9 | BJ23: 503.9 | BK23: 503.9 | BL23: 506.1 | BM23: 506.1 | BN23: 506.1 | BO23: 506.1 | BP23: 506.1 | BQ23: 506.1 | BR23: 506.1 | BS23: 64.0 | BT23: 506.1 | BU23: 482.3 | BV23: 482.3 | BW23: 482.3 | BX23: 482.3 | BY23: 482.3 | BZ23: 482.3 | CA23: 482.3 | CB23: 482.3 | CC23: 482.3 | CD23: 482.3 | CE23: 482.3 | CF23: 482.3 | CG23: 480.2 | CH23: 480.8 | CI23: 480.8 | CJ23: 480.8 | CK23: 480.8 | CL23: 480.8 | CM23: 480.8 | CN23: 480.8 | CO23: 480.8 | CP23: 480.8 | CQ23: 480.8 | CR23: 480.8 | CS23: 480.8 | CT23: 507.3 | CU23: 507.3 | CV23: 507.3 | CW23: 507.3 | CX23: 507.3 | CY23: 507.3 | CZ23: 507.3 | DA23: 507.3 | DB23: 507.3 | DC23: 507.3 | DD23: 507.3 | DE23: 507.3 | DF23: 498.9 | DG23: 498.9 | DH23: 498.9 | DI23: 498.9 | DJ23: 498.9 | DK23: 498.9 | DL23: 498.9 | DM23: 498.9 | DN23: 498.9 | DO23: 498.9 | DP23: 498.9 | DQ23: 498.9 | DR23: 504.29533 | DS23: 504.29533 | DT23: 504.29533 | DU23: 504.29533 | DV23: 504.29533 | DW23: 504.3 | DX23: 504.29533 | DY23: 504.29533 | DZ23: 504.29533 | EA23: 504.29533 | EB23: 504.3 | EC23: 504.29533 | ED23: 504.3 | EE23: 504.3 | EF23: 492.6 | EG23: 492.61658 | EH23: 492.61658 | EI23: 492.61658 | EJ23: 492.61658 | EK23: 492.61658 | EL23: 492.61658 | EM23: 492.6 | EN23: 492.61658 | EO23: 492.61658 | EP23: 492.61658 | EQ23: 482.20241
B24: MAU_RAFASDR_XDC | C24: (3) SDRs | D24: (3) DTS | E24: MAU_RAFASDR_XDC | F24: Tunisian dinar | G24: Millions | H24: 522 | I24: 515.1 | J24: 450.7 | K24: 451.3 | L24: 450 | M24: 449 | N24: 451.2 | O24: 443.8 | P24: 384.6 | Q24: 519.1 | R24: 386.1 | S24: 342.7 | T24: 344.9 | U24: 152.2 | V24: 138.7 | W24: 139.5 | X24: 130.2 | Y24: 92.1 | Z24: 93 | AA24: 79.9 | AB24: 65 | AC24: 126.7 | AD24: 114.1 | AE24: 68.8 | AF24: 68.2 | AG24: 23 | AH24: 22.9 | AI24: 122.3 | AJ24: 130.2 | AK24: 92.1 | AL24: 58.3 | AM24: 3.4 | AN24: 3.5 | AO24: 422.5 | AP24: 119.5 | AQ24: 69 | AR24: 68.5 | AS24: 11.8 | AT24: 12.1 | AU24: 82.2 | AV24: 57.5 | AW24: 58.5 | AX24: 58.3 | AZ24: 110.0 | BA24: 106.2 | BB24: 74.7 | BC24: 75.2 | BD24: 139.9 | BE24: 59.4 | BF24: 58.7 | BG24: 155.0 | BH24: 11.7 | BI24: 150.1 | BJ24: 148.7 | BK24: 114.3 | BL24: 114.1 | BM24: 55.7 | BN24: 24.5 | BO24: 24.2 | BP24: 180.1 | BQ24: 154.1 | BR24: 155.0 | BS24: 155.0 | BT24: 40.0 | BU24: 39.9 | BV24: 39.2 | BW24: 4.3 | BX24: 160.6 | BY24: 81.5 | BZ24: 43.5 | CA24: 41.7 | CB24: 139.5 | CC24: 101.7 | CD24: 102.8 | CE24: 181 | CF24: 39.9 | CG24: 144.8 | CH24: 144.2 | CI24: 2183.3 | CJ24: 652.6 | CK24: 226.6 | CL24: 186.3 | CM24: 160.5 | CN24: 160.9 | CO24: 122.2 | CP24: 122.7 | CQ24: 77.1 | CR24: 36.1 | CS24: 119.5 | CT24: 119.4 | CU24: 64.2 | CV24: 64.6 | CW24: 309.1 | CX24: 230.0 | CY24: 149.1 | CZ24: 148.4 | DA24: 134.9 | DB24: 134.3 | DC24: 398.1 | DD24: 294 | DE24: 211.7 | DF24: 187.9 | DG24: 14 | DH24: 202.1 | DI24: 178.6 | DJ24: 64.2 | DK24: 28 | DL24: 273.6 | DM24: 112 | DN24: 111.9 | DO24: 110.7 | DP24: 184.7 | DQ24: 149.2 | DR24: 124.51386 | DS24: 128.72824 | DT24: 128.92545 | DU24: 128.0316 | DV24: 120.08009 | DW24: 120.3 | DX24: 94.824421 | DY24: 40.84701 | DZ24: 40.535244 | EA24: 119.52067 | EB24: 53.1 | EC24: 52.456953 | ED24: 128.4 | EE24: 88.4 | EF24: 88.1 | EG24: 86.932561 | EH24: 29.302503 | EI24: 29.14704 | EJ24: 59.391373 | EK24: 23.484129 | EL24: 23.629267 | EM24: 152.5 | EN24: 101.13626 | EO24: 101.49394 | EP24: 100.44884 | EQ24: 66.421668
B25: MAU_RAFAGOLD_XDC | C25: (4) gold (including gold deposits and, if appropriate, gold swapped) | D25: (4) or (y compris les dépôts d'or et, le cas échéant, l'or échangé dans le cadre de swaps) | E25: MAU_RAFAGOLD_XDC | F25: Tunisian dinar | G25: Millions | H25: 325.6 | I25: 312 | J25: 307.2 | K25: 307.5 | L25: 310.7 | M25: 303.6 | N25: 283.2 | O25: 291.8 | P25: 292.3 | Q25: 283.9 | R25: 288.7 | S25: 287.1 | T25: 301.6 | U25: 338.8 | V25: 327 | W25: 337.1 | X25: 332.6 | Y25: 383.4 | Z25: 393.1 | AA25: 387.0 | AB25: 388.9 | AC25: 380.3 | AD25: 362.1 | AE25: 356.5 | AF25: 363.0 | AG25: 381 | AH25: 375.7 | AI25: 403.8 | AJ25: 332.6 | AK25: 383.4 | AL25: 437.6 | AM25: 422.7 | AN25: 421.7 | AP25: 400.6 | AQ25: 424.3 | AR25: 423.9 | AS25: 420.6 | AT25: 420.9 | AU25: 426.4 | AV25: 444 | AW25: 436.5 | AX25: 437.6 | AZ25: 442.7 | BA25: 468.5 | BB25: 478.4 | BC25: 512.9 | BD25: 531.5 | BE25: 533.4 | BF25: 517.5 | BG25: 633.4 | BH25: 516.0 | BI25: 542.3 | BJ25: 549.4 | BK25: 584.4 | BL25: 569.1 | BM25: 567.8 | BN25: 555.8 | BO25: 569.5 | BP25: 596.1 | BQ25: 621.2 | BR25: 621.2 | BS25: 633.4 | BT25: 659.7 | BU25: 674.9 | BV25: 715.5 | BW25: 711.6 | BX25: 695.1 | BY25: 693.5 | BZ25: 645.1 | CA25: 675.3 | CB25: 668.3 | CC25: 638 | CD25: 626.6 | CE25: 646 | CF25: 674.5 | CG25: 650.2 | CH25: 664 | CI25: 647.6 | CJ25: 230.8 | CK25: 647.7 | CL25: 688.1 | CM25: 697.7 | CN25: 694.3 | CO25: 739.6 | CP25: 752.5 | CQ25: 780.3 | CR25: 746.3 | CS25: 747.6 | CT25: 733.3 | CU25: 729.5 | CV25: 721.9 | CW25: 704.1 | CX25: 734.7 | CY25: 743.3 | CZ25: 773.0 | DA25: 748.9 | DB25: 803.7 | DC25: 805.8 | DD25: 814.6 | DE25: 788.3 | DF25: 802.6 | DG25: 804.9 | DH25: 790.1 | DI25: 843.7 | DJ25: 841.9 | DK25: 843.5 | DL25: 847.6 | DM25: 844.5 | DN25: 923.4 | DO25: 970.8 | DP25: 974.1 | DQ25: 976.2 | DR25: 1002.8409 | DS25: 1025.9598 | DT25: 1069.7106 | DU25: 1148.134 | DV25: 1122.3244 | DW25: 1110.7 | DX25: 1187.7488 | DY25: 1214.0604 | DZ25: 1271.042 | EA25: 1308.2614 | EB25: 1311.1 | EC25: 1274.8029 | ED25: 1306.9 | EE25: 1325 | EF25: 1476 | EG25: 1576.8788 | EH25: 1633.8158 | EI25: 1671.3734 | EJ25: 1935.4043 | EK25: 1994.5484 | EL25: 1792.2242 | EM25: 1797.4 | EN25: 1761.807 | EO25: 1584.75 | EP25: 1586.0633 | EQ25: 1775.9592
B26: MAU_RAFAGOLDV_OZT | C26: —volume in fine troy ounces | D26: —volume en onces troy fines | E26: MAU_RAFAGOLDV_OZT | F26: Ounces | G26: Millions | DP26: 0.2 | DQ26: 0.2 | DR26: 0.21970376 | DS26: 0.21970376 | DT26: 0.21970376 | DU26: 0.21970376 | DV26: 0.21970376 | DW26: 0.2 | DX26: 0.21970376 | DY26: 0.21970376 | DZ26: 0.21970376 | EA26: 0.21970376 | EB26: 0.2 | EC26: 0.21970376 | ED26: 0.2 | EE26: 0.2 | EF26: 0.2 | EG26: 0.21970376 | EH26: 0.21970376 | EI26: 0.21971378 | EJ26: 0.21971378 | EK26: 0.21971378 | EL26: 0.21971378 | EM26: 0.2 | EN26: 0.21971378 | EO26: 0.21971378 | EP26: 0.21971378 | EQ26: 0.21971378
B27: MAU_RAFAO_XDC | C27: (5) other reserve assets (specify) | D27: (5) autres avoirs de réserve (à préciser) | E27: MAU_RAFAO_XDC | F27: Tunisian dinar | G27: Millions | H27: 485.2 | I27: 479.8 | J27: 473.3 | K27: 486.5 | L27: 516 | M27: 515.8 | N27: 551.7 | O27: 580.8 | P27: 539.3 | Q27: 505 | R27: 498.7 | S27: 516.1 | T27: 513 | U27: 463.8 | V27: 516.2 | W27: 560.5 | X27: 600.9 | Y27: 735.9 | Z27: 819.6 | AA27: 902.7 | AB27: 811.1 | AC27: 728.7 | AD27: 612.8 | AE27: 646.4 | AF27: 576.3 | AG27: 530.6 | AH27: 559.1 | AI27: 674.5 | AJ27: 600.9 | AK27: 735.9 | AL27: 1255.4 | AM27: 1272.2 | AN27: 1273.8 | AO27: 1007.8 | AP27: 1007.8 | AQ27: 980.1 | AR27: 1050 | AS27: 988.2 | AT27: 962.6 | AU27: 998.2 | AV27: 1008.2 | AW27: 965.3 | AX27: 1255.4 | AZ27: 1902.7 | BA27: 1725.3 | BB27: 1361.2 | BC27: 1254 | BD27: 1296.9 | BE27: 1181.0 | BF27: 1150.0 | BG27: 1,232.7 | BH27: 1291.2 | BI27: 1328.7 | BJ27: 1328.7 | BK27: 2480.7 | BL27: 2,565.3 | BM27: 2,412.1 | BN27: 2,249.4 | BO27: 2,143.3 | BP27: 2,286.3 | BQ27: 1,505.9 | BR27: 1,232.7 | BS27: 1,232.7 | BT27: 1,370.8 | BU27: 1,447.4 | BV27: 1,687.6 | BW27: 2,024.6 | BX27: 2,017.2 | BY27: 2054 | BZ27: 1506.9 | CA27: 1170.5 | CB27: 1252.1 | CC27: 1200.5 | CD27: 1234.3 | CE27: 1219.2 | CF27: 1447.4 | CG27: 1267.1 | CH27: 2352.4 | CI27: 2759.1 | CJ27: 2,273.4 | CK27: 1888 | CL27: 2143.6 | CM27: 2090.5 | CN27: 2113.1 | CO27: 1901.4 | CP27: 172.8 | CQ27: 1906 | CR27: 2063.7 | CS27: 1881.7 | CT27: 2529 | CU27: 2562.5 | CV27: 2210.1 | CW27: 1.719.2 | CX27: 1.318.3 | CY27: 1.394.3 | CZ27: 1.568.7 | DA27: 1.489.1 | DB27: 1.446.9 | DC27: 1.442.3 | DD27: 1.590.7 | DE27: 1.590.9 | DF27: 2.073.1 | DG27: 2.232.6 | DH27: 1727.5 | DI27: 1532.3 | DJ27: 1669.3 | DK27: 1530.2 | DL27: 1381.1 | DM27: 1299.2 | DN27: 1184.7 | DO27: 1,287.1 | DP27: 1272.1 | DQ27: 1559.5 | DR27: 1790.4616 | DS27: 2339.8375 | DT27: 1716.5713 | DU27: 1804.6446 | DV27: 1748.6276 | DW27: 1431.4 | DX27: 1601.7286 | DY27: 1268.4314 | DZ27: 1331.7185 | EA27: 1496.1737 | EB27: 1583.6 | EC27: 1974.5043 | ED27: 2611.9 | EE27: 3554.3 | EF27: 1548.6 | EG27: 1348.8465 | EH27: 1397.0591 | EI27: 1350.4091 | EJ27: 1189.6718 | EK27: 1184.6214 | EL27: 1146.2619 | EM27: 1193.7 | EN27: 1217.4003 | EO27: 1382.5029 | EP27: 1754.2485 | EQ27: 2021.4266
B28: MAU_RAFAOF_XDC | C28: —financial derivatives | D28: —dérivés financiers | E28: MAU_RAFAOF_XDC | F28: Tunisian dinar | G28: Millions
B29: MAU_RAFAOL_XDC | C29: —loans to nonbank nonresidents | D29: —prêts aux non-résidents non bancaires | E29: MAU_RAFAOL_XDC | F29: Tunisian dinar | G29: Millions
B30: MAU_RAFAOO_XDC | C30: —other | D30: —autre | E30: MAU_RAFAOO_XDC | F30: Tunisian dinar | G30: Millions
B31: MAU_RAOFA_XDC | C31: B. Other foreign currency assets (specify) | D31: B. Autres avoirs en devises étrangères (à préciser) | E31: MAU_RAOFA_XDC | F31: Tunisian dinar | G31: Millions
B32: MAU_RAOFAS_XDC | C32: —securities not included in official reserve assets | D32: —titres non inclus dans les avoirs de réserves officiels | E32: MAU_RAOFAS_XDC | F32: Tunisian dinar | G32: Millions
B33: MAU_RAOFAD_XDC | C33: —deposits not included in official reserve assets | D33: —dépôt+D32:D33s non inclus dans les avoirs de réserve officiels | E33: MAU_RAOFAD_XDC | F33: Tunisian dinar | G33: Millions
B34: MAU_RAOFAL_XDC | C34: —loans not included in official reserve assets | D34: —prêts non inclus dans les avoirs de réserve officiels | E34: MAU_RAOFAL_XDC | F34: Tunisian dinar | G34: Millions
B35: MAU_RAOFAF_XDC | C35: —financial derivatives not included in official reserve assets | D35: —dérivés financiers non inclus dans les avoirs de réserve officiels | E35: MAU_RAOFAF_XDC | F35: Tunisian dinar | G35: Millions
B36: MAU_RAOFAG_XDC | C36: —gold not included in official reserve assets | D36: —l'or non inclus dans les avoirs de réserve officiels | E36: MAU_RAOFAG_XDC | F36: Tunisian dinar | G36: Millions
B37: MAU_RAOFAO_XDC | C37: —other | D37: —autre | E37: MAU_RAOFAO_XDC | F37: Tunisian dinar | G37: Millions
C38: II. Predetermined short-term net drains on foreign currency assets (nominal value) | D38: II. Prélèvements à court terme prédéterminés sur les avoirs en devises (valeur nominale)
C39: 1. Foreign currency loans, securities, and deposits | D39: 1. Prêts, titres et dépôts en devises étrangères
B40: MAU_RAPFALSD_XDC | C40: Total | D40: Total | E40: MAU_RAPFALSD_XDC | F40: Tunisian dinar | G40: Millions | H40: -2636 | I40: -2759.8 | J40: -2924 | K40: -2725.4 | L40: -2634.5 | M40: -2651.3 | N40: -2856.6 | O40: -3039.5 | P40: -3053 | Q40: -3533.9 | R40: -2722.7 | S40: -3469.1 | T40: -2898.7 | U40: -2891.3 | V40: -2954.7 | W40: -3891.6 | X40: -4076.9 | Y40: -3901.4 | Z40: -3654.4 | AA40: 4665.3 | AB40: -4118.6 | AC40: -4746.3 | AD40: -4708.8 | AE40: -4731.5 | AF40: -5142.4 | AG40: -5175.3 | AH40: -5880.6 | AI40: -5880.6 | AJ40: -4076.9 | AK40: -3901.4 | AL40: -7451.7 | AM40: -4960.8 | AN40: -5140.1 | AO40: -5026.7 | AP40: -5113.4 | AQ40: -5235.9 | AR40: -5836.8 | AS40: -5623.2 | AT40: -5442.7 | AU40: -6184.9 | AV40: -6084.1 | AW40: -6436.8 | AX40: -7451.7 | AZ40: -7776.3 | BA40: -8149.6 | BB40: -7698.9 | BC40: -8855.8 | BD40: -6377.6 | BE40: -8486.4 | BF40: -6467.6 | BG40: -6458.1 | BH40: -6528.3 | BI40: -7884.8 | BJ40: -8750.8 | BK40: -8542.3 | BL40: -4156.2 | BM40: -8621.5 | BN40: -8678 | BO40: -8768.5 | BP40: -8268.1 | BQ40: -7843.8 | BR40: -8531.3 | BS40: -4499.7 | BT40: -6372.2 | BU40: -3720.5 | BV40: -6657 | BW40: -7995.3 | BX40: -8101.3 | BY40: -7915.9 | BZ40: -5840 | CA40: -5875.3 | CB40: -5816.2 | CC40: -5725.1 | CD40: -9712.9 | CE40: 1987.1 | CF40: -3720.5 | CG40: -4398.6 | CH40: -4780.423 | CI40: -3355.478 | CJ40: -3685 | CK40: -3685.2 | CL40: -3800.387 | CM40: -4130.9 | CN40: -4223.6 | CO40: -4013.2 | CP40: -4084.6 | CQ40: -3149.1 | CR40: -2964.6 | CS40: -3340.6 | CT40: -3779.4 | CU40: -4148.8 | CV40: 90.4 | CX40: -2811.7 | CY40: -8332.6 | CZ40: -8569.8 | DA40: -8076.7 | DB40: -3100.3 | DC40: -3360.4 | DD40: -3901.1 | DE40: -3901.1 | DF40: -4290.9 | DG40: -1348.7 | DH40: -3081,6 5 | DI40: -3387.3 | DJ40: -3286.3 | DK40: -3073.6 | DL40: -6223.6 | DM40: -9347.1 | DN40: -3145 | DO40: -3070.4 | DP40: 8026.6 | DQ40: 8674.1 | DR40: 8583.9884 | DS40: -1045.8116 | DT40: -14478.9 | DU40: -757.6 | DV40: =DV41+DV42+DV43 -> 1116.6524 | DW40: -841.1 | DX40: 2981.6 | DY40: 2877.7 | DZ40: 2612.2 | EA40: 2803.3 | EB40: 3171.7 | EC40: 4900.6489 | ED40: =ED41+ED42+ED43 -> 2612 | EE40: =+EE41+EE42+EE43 -> 2680.5 | EF40: 533.7 | EG40: 39.3 | EH40: 740.4 | EI40: 400.4 | EJ40: 9803.7141 | EK40: =EK41+EK42+'Feuillet de conversion'!$EK$40 -> 699.83806 | EL40: =9527.84184786399+'[2]International Reserves'!$D$53 -> 522.94185 | EM40: =EM41+EM42+'Feuillet de conversion'!$EM$40 -> 487.7 | EN40: =10002.1521499354+'[3]International Reserves'!$D$53 -> 660.65215 | EO40: 472.1 | EP40: =EP41+EP541+'Feuillet de conversion'!$EP$40 -> 4395.7499 | EQ40: 2886.5475
B41: MAU_RAPFALSD_1M_XDC | C41: —Up to 1 month | D41: —Jusqu'à 1 mois | E41: MAU_RAPFALSD_1M_XDC | F41: Tunisian dinar | G41: Millions | H41: -680 | I41: -939.3 | J41: 1039.6 | K41: -846.6 | L41: -774.7 | M41: -646.1 | N41: -766.9 | O41: -968.3 | P41: -938.2 | Q41: -1018.4 | R41: -565.3 | S41: -1264.8 | T41: -618.3 | U41: -652.7 | V41: -640.2 | W41: -500.2 | X41: -694.7 | Y41: -425.7 | Z41: -160.8 | AA41: -664.3 | AB41: -199.9 | AC41: -608.3 | AD41: -554 | AE41: -457.3 | AF41: -621.3 | AG41: -485.8 | AH41: -2189.3 | AI41: -2189.3 | AJ41: -694.7 | AK41: -425.7 | AL41: -1246 | AM41: -941.1 | AN41: -1143.9 | AO41: -780.1 | AP41: -1015.7 | AQ41: -1283.6 | AR41: -1628.2 | AS41: -1348.4 | AT41: -1157.9 | AU41: -1178.2 | AV41: -1228.1 | AW41: -1857.1 | AX41: -1246 | AZ41: -1837.3 | BA41: -1895.8 | BB41: -1582.1 | BC41: -3014.7 | BD41: -474.5 | BE41: -2562 | BF41: -1194.1 | BG41: -155 | BH41: -414.5 | BI41: -1868.1 | BJ41: -2416.7 | BK41: -2291.2 | BL41: 1729.8 | BM41: -2271.4 | BN41: -2405.8 | BO41: -2661.2 | BP41: -2073.9 | BQ41: -1616.6 | BR41: -3104.1 | BS41: 1563.2 | BT41: -1541.5 | BU41: 797.8 | BV41: -193.8 | BW41: -261.8 | BX41: -482.6 | BY41: -190.7 | BZ41: 1753.2 | CA41: 1589.3 | CB41: 1705.6 | CC41: 1821.2 | CD41: -3214.7 | CE41: 1846.2 | CF41: 797.8 | CG41: 1690.9 | CH41: 396.177 | CI41: 1606.922 | CJ41: 1355.3 | CK41: 1414.6 | CL41: 1124.113 | CM41: 1324.2 | CN41: 1400.6 | CO41: 1615.3 | CP41: 1119.1 | CQ41: 2070.4 | CR41: 2128.9 | CS41: 1556.1 | CT41: 2039.3 | CU41: 1989.8 | CV41: 6499 | CX41: 4952 | CY41: -535.9 | CZ41: -405.2 | DA41: 2621 | DB41: 7560.4 | DC41: 7580.6 | DD41: 6873.5 | DE41: 6873.5 | DF41: 6603.3 | DG41: 7286.7 | DH41: 5286.6 | DI41: 6244 | DJ41: -3286.3 | DK41: 5866.4 | DL41: 3518.4 | DM41: -607.1 | DN41: 5661.7 | DO41: 6728.9 | DP41: 5912.9 | DQ41: 6259.5 | DR41: 6592.7647 | DS41: 6086.9647 | DT41: 5045.3 | DU41: 6742.5 | DV41: =8593.78888925575+'[4]International Reserves'!$E$54 -> 8129.8889 | DW41: 3434.4 | DX41: 6966.3 | DY41: 6368 | DZ41: 6534.6 | EA41: 6722 | EB41: 7061.2 | EC41: 7215.6535 | ED41: =7301.2-101.7 -> 7199.5 | EE41: =7578.7-623.5 -> 6955.2 | EF41: 7035.6 | EG41: =EG42+EG43+'Feuillet de conversion'!$EG$41 -> 6195.9833 | EH41: 7332.9 | EI41: 6755.3 | EJ41: =7510.13478720698-313 -> 7197.1348 | EK41: =EK42+EK43+'Feuillet de conversion'!$EK$41 -> 6110.8587 | EL41: =7043.24456905937+'[2]International Reserves'!$E$53 -> 6743.0446 | EM41: =EM42+EM43+'Feuillet de conversion'!$EM$41 -> 6758.1 | EN41: =8117.62565026741+'[3]International Reserves'!$E$53 -> 7325.0257 | EO41: 4886.9 | EP41: =EP42+EP43+'Feuillet de conversion'!$EP$41 -> 7404.1289 | EQ41: 7361.9763
B42: MAU_RAPFALSD_1M_3M_XDC | C42: —More than 1 and up to 3 months | D42: —Plus de 1 et jusqu'à 3 mois | E42: MAU_RAPFALSD_1M_3M_XDC | F42: Tunisian dinar | G42: Millions | H42: -451.1 | I42: -339.5 | J42: -388.8 | K42: -294.4 | L42: -250.9 | M42: -338.2 | N42: -306.1 | O42: -318 | P42: -393.5 | Q42: -974.1 | R42: -367.9 | S42: -379.5 | T42: -397.8 | U42: -364.2 | V42: -494.4 | W42: -480.8 | X42: -435.1 | Y42: -411.2 | Z42: -404.2 | AA42: -491.6 | AB42: -414.8 | AC42: -475.6 | AD42: -471.2 | AE42: -416.3 | AF42: -1517 | AG42: -1531.2 | AH42: -485.1 | AI42: -485.1 | AJ42: -435.1 | AK42: -411.2 | AL42: -946.5 | AM42: -593.5 | AN42: -553.8 | AO42: -837.5 | AP42: -831.6 | AQ42: -687.2 | AR42: -785.6 | AS42: -670.5 | AT42: -723.3 | AU42: -968.5 | AV42: -919.8 | AW42: -636.1 | AX42: -946.5 | AZ42: -543.2 | BA42: -942.5 | BB42: -1009.7 | BC42: -789.9 | BD42: -1402.4 | BE42: -1174.9 | BF42: -541.5 | BG42: -2143.4 | BH42: -1995.7 | BI42: -679.8 | BJ42: -969.8 | BK42: -764.1 | BL42: -572.9 | BM42: -808.8 | BN42: -965.1 | BO42: -864 | BP42: -1553.6 | BQ42: -1527.3 | BR42: -1886.2 | BS42: -2073.7 | BT42: -778.6 | BU42: -570.3 | BV42: -851.1 | BW42: -775.3 | BX42: -566.4 | BY42: -887.1 | BZ42: -979.3 | CA42: -712.3 | CB42: -1267.66 | CC42: -1206.8 | CD42: -557.1 | CE42: -1953.3 | CF42: -570.3 | CG42: -1977.6 | CH42: -764.3 | CI42: -671.5 | CJ42: -736.6 | CK42: -994.6 | CL42: -893.7 | CM42: -746.5 | CN42: -1363 | CO42: -1258.6 | CP42: -756.1 | CQ42: -1134.8 | CR42: -847 | CS42: -621.6 | CT42: -787.6 | CU42: -620.8 | CV42: -1349.9 | CX42: -947.8 | CY42: -995.4 | CZ42: -866.3 | DA42: -555.9 | DB42: -597.6 | DC42: -1374.1 | DD42: -1581.3 | DE42: -1581.3 | DF42: -2479.8 | DG42: -2181.2 | DH42: -119.8 | DI42: -814.6 | DJ42: -3963.8 | DK42: -3527.6 | DL42: -691.4 | DM42: -11.8 | DN42: 180.5 | DO42: -1442.3 | DP42: 781.4 | DQ42: 1001.5 | DR42: 607.469 | DS42: -1305.731 | DT42: 724.8 | DU42: -3087.5 | DV42: =472.203863700926+'[4]International Reserves'!$F$54 -> -3621.2961 | DW42: -794.5 | DX42: -741.3 | DY42: -363.5 | DZ42: -529.8 | EA42: -778.5 | EB42: -471.2 | EC42: 116.16015 | ED42: =1269.3-896.4 -> 372.9 | EE42: =1075.5-523.2 -> 552.3 | EF42: 514.3 | EG42: -444.5 | EH42: 295.8 | EI42: -468.6 | EJ42: =842.773796100571+'[5]International Reserves'!$F$53 -> -430.1262 | EK42: 132.9 | EL42: =1075.13459336111+'[2]International Reserves'!$F$53 -> -200.56541 | EM42: =EM43+EM44+'Feuillet de conversion'!$EM$42 -> -2754.5 | EN42: =EN43+EN44+'Feuillet de conversion'!$EN$42 -> -2437.4588 | EO42: -305.7 | EP42: =EP43+EP44+'Feuillet de conversion'!$EP$42 -> -474.55313 | EQ42: -302.76686
B43: MAU_RAPFALSD_3M_1Y_XDC | C43: —More than 3 months and up to 1 year | D43: —Plus de 3 mois et jusqu'à 1 an | E43: MAU_RAPFALSD_3M_1Y_XDC | F43: Tunisian dinar | G43: Millions | H43: -1504.9 | I43: -1481 | J43: -1495.6 | K43: -1584.4 | L43: -1608.9 | M43: -1667 | N43: -1783.6 | O43: -1753.2 | P43: -1721.3 | Q43: -1541.4 | R43: -1789.5 | S43: -1824.8 | T43: -1882.6 | U43: -1874.4 | V43: -1820.1 | W43: -2910.6 | X43: -2947.1 | Y43: -3064.5 | Z43: -3089.4 | AA43: -3509.4 | AB43: -3503.9 | AC43: -3662.4 | AD43: -3683.6 | AE43: -3857.9 | AF43: -3004.1 | AG43: -3158.3 | AH43: -3206.2 | AI43: -3206.2 | AJ43: 2947.1 | AK43: -3064.5 | AL43: -5259.2 | AM43: -3426.2 | AN43: -3442.4 | AO43: -3409.1 | AP43: -3266.1 | AQ43: -3265.1 | AR43: -3424 | AS43: -3604.3 | AT43: -3561.5 | AU43: -4038.2 | AV43: -3936.2 | AW43: -3943.6 | AX43: -5259.2 | AZ43: -5395.8 | BA43: -5311.3 | BB43: -5107.1 | BC43: -5051.2 | BD43: -4500.7 | BE43: -4749.5 | BF43: -4732 | BG43: -4159.7 | BH43: -4118.1 | BI43: -5336.9 | BJ43: -5364.3 | BK43: -5487 | BL43: -5313.1 | BM43: -5541.3 | BN43: -5307.1 | BO43: -5243.3 | BP43: -4640.6 | BQ43: -4845.4 | BR43: 3541 | BS43: -3989.2 | BT43: -4052.1 | BU43: -3948 | BV43: -5612.1 | BW43: 6958.2 | BX43: 7052.3 | BY43: -6838.1 | BZ43: -6619 | CA43: -6651.8 | CB43: -6254.3 | CC43: -6339.3 | CD43: -5941.1 | CE43: 0 | CF43: -3948 | CG43: -4111.9 | CH43: -4412.3 | CI43: -4290.9 | CJ43: -4303.7 | CK43: -4105.2 | CL43: -4030.8 | CM43: -4708.6 | CN43: -4261.2 | CO43: -4369.9 | CP43: -4447.6 | CQ43: -4084.7 | CR43: -4246.5 | CS43: -4275.1 | CT43: -5031.1 | CU43: -5517.8 | CV43: -5058.7 | CX43: -6815.9 | CY43: -6801.3 | CZ43: -7298.3 | DA43: -10141.8 | DB43: -10063.1 | DC43: -9566.9 | DD43: -9193.3 | DE43: -9193.3 | DF43: -8414.4 | DG43: -6454.2 | DH43: -8248.4 | DI43: -8816.7 | DJ43: -5984 | DK43: -5412.4 | DL43: -9050.6 | DM43: -8728.2 | DN43: -8987.2 | DO43: -8357 | DP43: 1332.3 | DQ43: 1413.1 | DR43: 1383.7548 | DS43: -5827.0452 | DT43: -8242.4 | DU43: -4412.7 | DV43: =432.059689598508+'[4]International Reserves'!$G$54 -> -3391.9403 | DW43: -3481 | DX43: -3243.4 | DY43: -3126.8 | DZ43: -3392.6 | EA43: -3140.2 | EB43: -3418.3 | EC43: -2431.1648 | ED43: =1459-6419.4 -> -4960.4 | EE43: =1386.2-6213.2 -> -4827 | EF43: -6996.3 | EG43: =EG44+EG45+'Feuillet de conversion'!$EG$43 -> -6861.2933 | EH43: -6878.9 | EI43: -5886.3 | EJ43: =1450.80549801648+'[5]International Reserves'!$G$53 -> -5964.4945 | EK43: -5544 | EL43: =1409.46268544352+'[2]International Reserves'!$G$53 -> -6019.5373 | EM43: =EM44+EM45+'Feuillet de conversion'!$EM$43 -> -3515.9 | EN43: =991.485347123077+'[3]International Reserves'!$G$53 -> -4226.9147 | EO43: -3709 | EP43: -3753.4258 | EQ43: -4172.6619
C44: III. Contingent short-term net drains on foreign currency assets (nominal value) | D44: III. Drainage net éventuel à court terme des avoirs en devises (valeur nominale) | DT44: -6961.3
C45: (b) Other contingent liabilities | D45: (b) Autres passifs éventuels
B46: MAU_RACFAL_XDC | C46: Total | D46: Total | E46: MAU_RACFAL_XDC | F46: Tunisian dinar | G46: Millions | H46: -1131.4 | I46: -1140.5 | J46: -1134.5 | K46: -1154.4 | L46: -1134 | M46: -1148.8 | N46: -1142.2 | O46: -1164.7 | P46: -1151 | Q46: -846.7 | R46: -1154.6 | S46: -909.5 | T46: -905.1 | U46: -923.5 | V46: -915.9 | W46: -923.6 | X46: -926.6 | Y46: -1175.7 | Z46: -1109.5 | AA46: -1181.5 | AB46: -1178.6 | AC46: -1185.4 | AD46: -1191.6 | AE46: -1210.8 | AF46: -1212.3 | AG46: -1287.7 | AH46: -1234.5 | AI46: 1889.8 | AJ46: -926.6 | AK46: -1175.7 | AL46: -1428.2 | AM46: -1125.4 | AN46: -1135.4 | AO46: -1152 | AP46: -1189.1 | AQ46: -1280 | AR46: -1296.6 | AS46: -1317.1 | AT46: -1337.5 | AU46: -1315.7 | AV46: -1315.7 | AW46: -1383.6 | AX46: -1428.2 | AZ46: =AZ47+AZ48+AZ49 -> -1463 | BA46: -1439.7 | BB46: =BB47+BB48+BB49 -> -1448.7 | BC46: =BC47+BC48+BC49 -> -1470.3 | BD46: =BD47+BD48+BD49 -> -1506 | BE46: =BE47+BE48+BE49 -> -1533.3 | BF46: =BF47+BF48+BF49 -> -1531.1 | BG46: =BG47+BG48+BG49 -> -1547.4 | BH46: =BH47+BH48+BH49 -> -1557.4 | BI46: -1550.1 | BJ46: -1519.9 | BK46: -1549.1 | BL46: =BL47+BL48+BL49 -> -1543.4 | BM46: -1560 | BN46: -1553.6 | BO46: -1493.8 | BP46: -1456.9 | BQ46: -1485.7 | BR46: -1487.6 | BS46: -1493.5 | BT46: -1493.5 | BU46: -1482 | BV46: -1482.2 | BW46: -1493.1 | BX46: -1496.8 | BY46: -1489.1 | BZ46: -1495 | CA46: -1557.5 | CB46: -1556.2 | CC46: -1556 | CD46: -1558.9 | CE46: -1549 | CF46: -1482 | CG46: -1539.9 | CH46: -1535.5 | CI46: -1536.3 | CJ46: -1575.6 | CK46: -1569.8 | CL46: -1570.6 | CM46: -1575.3 | CN46: -1557.8 | CO46: -1562.6 | CP46: -1555.9 | CQ46: -1547.1 | CR46: -1547.1 | CS46: -1523.1 | CT46: 1523.1 | CU46: -1512.1 | CV46: -1495.9 | CX46: -1527.4 | CY46: -1512.7 | CZ46: -1512.8 | DA46: -1506.2 | DB46: -1574.8 | DC46: -1643.3 | DD46: -1671.1 | DE46: -1673.2 | DF46: -1917 | DG46: -2033.8 | DH46: -1919.6 | DI46: -1926.8 | DJ46: -1911.6 | DK46: -1874.3 | DL46: -1919.6 | DM46: -1899.6 | DN46: -1899.2 | DO46: -1893.6 | DP46: -1871.7 | DQ46: -1887.8 | DR46: -1846.3 | DS46: -1947.4 | DT46: -1891.1 | DU46: -1841.3 | DV46: -1815 | DW46: -1761.6 | DX46: -1757.5 | DY46: -1743.2 | DZ46: -1702.6 | EA46: -1730.9 | EB46: -1718.1 | EC46: -1747.5 | ED46: -1754.1 | EE46: -1788 | EF46: -1819.8 | EG46: -1814.5 | EH46: =EI46+EJ46+EK46 -> -5605.6 | EI46: -1867.6 | EJ46: -1883 | EK46: -1855 | EL46: -1869.7 | EM46: -1861.9 | EN46: -1876.5 | EO46: -1851.3 | EP46: -1841.8 | EQ46: -1778.1596
B47: MAU_RACFAL_1M_XDC | C47: —Up to 1 month | D47: —Jusqu'à 1 mois | E47: MAU_RACFAL_1M_XDC | F47: Tunisian dinar | G47: Millions | H47: -65.6 | I47: -52.5 | J47: -46 | K47: -85.2 | L47: -102.3 | M47: -72.8 | N47: -67.4 | O47: -56.6 | P47: -66.3 | Q47: -78.3 | R47: -89.5 | S47: -61.9 | T47: -74.7 | U47: -46.5 | V47: -63.9 | W47: -66.8 | X47: -117.1 | Y47: -66.2 | Z47: -89.9 | AA47: -42.9 | AB47: -69.9 | AC47: -66.2 | AD47: -143.5 | AE47: -57.5 | AF47: -93.1 | AG47: -97.1 | AH47: -71.6 | AI47: 436 | AJ47: -117.1 | AK47: -66.2 | AL47: -130.8 | AM47: -40 | AN47: -76.7 | AO47: -72.4 | AP47: -162.7 | AQ47: -59 | AR47: -110.3 | AS47: -43.9 | AT47: -85.4 | AU47: -97.6 | AV47: -97.6 | AW47: -74.6 | AX47: -130.8 | AZ47: -93.3 | BA47: -109.5 | BB47: -253.6 | BC47: -75.6 | BD47: -130.8 | BE47: -64.3 | BF47: -63.6 | BG47: -105.1 | BH47: -232.4 | BI47: -119.2 | BJ47: -148.1 | BK47: -67.5 | BL47: -70 | BM47: -118.5 | BN47: -275.2 | BO47: -111.3 | BP47: -158.1 | BQ47: -62.1 | BR47: -79.9 | BS47: -115.1 | BT47: -115.1 | BU47: -89 | BV47: -177.3 | BW47: -61.8 | BX47: 86.6 | BY47: -112.1 | BZ47: -210.5 | CA47: -77 | CB47: -192.7 | CC47: -70 | CD47: -93 | CE47: -113.1 | CF47: -89 | CG47: -89.9 | CH47: -192.6 | CI47: -70.4 | CJ47: -85 | CK47: -107.5 | CL47: -242.4 | CM47: -76.2 | CN47: -197.9 | CO47: -75.3 | CP47: -83.9 | CQ47: -108.6 | CR47: -240 | CS47: -85.6 | CT47: -85.6 | CU47: -76 | CV47: -79.2 | CX47: -252.8 | CY47: -59 | CZ47: -210.7 | DA47: -67.6 | DB47: -77.1 | DC47: -110.4 | DD47: -225 | DE47: -71.8 | DF47: -210.1 | DG47: -203.7 | DH47: -109.7 | DI47: -127.9 | DJ47: -261.1 | DK47: 92 | DL47: -109.7 | DM47: -158.2 | DN47: -147.5 | DO47: -144.9 | DP47: -227.7 | DQ47: -130.3 | DR47: -208.4 | DS47: -150.8 | DT47: -113.1 | DU47: -132.3 | DV47: -277.9 | DW47: -80.9 | DX47: -206.7 | DY47: -175.7 | DZ47: -140.1 | EA47: -142.4 | EB47: -233.4 | EC47: -99.4 | ED47: -194.8 | EE47: -94.5 | EF47: -63.1 | EG47: -106.1 | EH47: -224.5 | EI47: -76.8 | EJ47: -192.4 | EK47: -135.1 | EL47: -168.4 | EM47: -129.6 | EN47: -262.8 | EO47: -106 | EP47: -228.7 | EQ47: -126.3
B48: MAU_RACFAL_1M_3M_XDC | C48: —More than 1 and up to 3 months | D48: —Plus de 1 et jusqu'à 3 mois | E48: MAU_RACFAL_1M_3M_XDC | F48: Tunisian dinar | G48: Millions | H48: -98.5 | I48: -131.2 | J48: -187.5 | K48: -175.1 | L48: -140.2 | M48: -124 | N48: -122.9 | O48: -155.8 | P48: -454.8 | Q48: -153.7 | R48: -427.2 | S48: -121.2 | T48: -110.4 | U48: -130.7 | V48: -183.9 | W48: -183.3 | X48: -156.1 | Y48: -132.8 | Z48: -112.8 | AA48: 136.1 | AB48: -209.7 | AC48: -201 | AD48: -150.6 | AE48: -132 | AF48: -110.5 | AG48: -141.4 | AH48: -436 | AI48: -726.9 | AJ48: -156.1 | AK48: -132.8 | AL48: -143.3 | AM48: -149.1 | AN48: -235.1 | AO48: -221.7 | AP48: -169.3 | AQ48: -154.2 | AR48: -129.3 | AS48: -183 | AT48: -269.9 | AU48: -246.6 | AV48: -246.6 | AW48: -180.8 | AX48: -143.3 | AZ48: -363.1 | BA48: -329.2 | BB48: -206.4 | BC48: -195.1 | BD48: -127.9 | BE48: -168.7 | BF48: -337.5 | BG48: -351.6 | BH48: -267.3 | BI48: -215.6 | BJ48: -137.5 | BK48: -188.5 | BL48: -393.7 | BM48: -386.5 | BN48: -269.4 | BO48: -220.2 | BP48: -142 | BQ48: -195 | BR48: -340.2 | BS48: -314.1 | BT48: -314.1 | BU48: -239.1 | BV48: -148.4 | BW48: -198.7 | BX48: -327.5 | BY48: -289.8 | BZ48: -269 | CA48: -262.7 | CB48: -163 | CC48: -206.1 | CD48: -344.8 | CE48: -321.6 | CF48: -239.1 | CG48: -263 | CH48: -154.2 | CI48: -189.2 | CJ48: -349.9 | CK48: -318.6 | CL48: -274.1 | CM48: -273.2 | CN48: -159.2 | CO48: -192.5 | CP48: -348.6 | CQ48: -325.6 | CR48: -282.8 | CS48: -273.2 | CT48: -273.2 | CU48: -187.5 | CV48: -355.4 | CX48: -269.7 | CY48: -278.3 | CZ48: -144.7 | DA48: -187.5 | DB48: -335.4 | DC48: -296.8 | DD48: -281.5 | DE48: -270.6 | DF48: -237.6 | DG48: -296.4 | DH48: -389 | DI48: -353 | DJ48: -295.6 | DK48: -357 | DL48: -389 | DM48: -292.4 | DN48: -372.6 | DO48: -358 | DP48: -338.7 | DQ48: -340.7 | DR48: -245.7 | DS48: -245.3 | DT48: -410.1 | DU48: -358.8 | DV48: -287.6 | DW48: -382.4 | DX48: -315.8 | DY48: -282.5 | DZ48: -375.8 | EA48: -332.8 | EB48: -294.2 | EC48: -289.3 | ED48: -157.6 | EE48: -169.2 | EF48: -330.6 | EG48: -301.3 | EH48: -269.2 | EI48: -327.5 | EJ48: -303.5 | EK48: -298 | EL48: -392.4 | EM48: -368.8 | EN48: -334.7 | EO48: -355 | EP48: -184.1 | EQ48: -183.2
B49: MAU_RACFAL_3M_1Y_XDC | C49: —More than 3 months and up to 1 year | D49: —Plus de 3 mois et jusqu'à 1 an | E49: MAU_RACFAL_3M_1Y_XDC | F49: Tunisian dinar | G49: Millions | H49: -967.3 | I49: -956.8 | J49: 14914.8 | K49: -894.1 | L49: -891.5 | M49: -952 | N49: -951.9 | O49: -952.3 | P49: -629.9 | Q49: -614.7 | R49: -637.9 | S49: -726.4 | T49: -720 | U49: -746.3 | V49: -668.1 | W49: -673.5 | X49: -653.4 | Y49: 976.7 | Z49: -906.8 | AA49: -1002.5 | AB49: -899 | AC49: -918.2 | AD49: -897.5 | AE49: -1021.3 | AF49: -1008.7 | AG49: -1049.2 | AH49: -726.9 | AI49: -726.9 | AJ49: -653.4 | AK49: -976.7 | AL49: -1154.1 | AM49: -936.3 | AN49: -823.6 | AO49: -857.9 | AP49: -857.1 | AQ49: =AO13-1066.8 -> #VALUE! | AR49: -1057 | AS49: -1090.2 | AT49: -982.5 | AU49: -971.5 | AV49: -971.5 | AW49: -1128.2 | AX49: -1154.1 | AZ49: -1006.6 | BA49: -1001 | BB49: -988.7 | BC49: -1199.6 | BD49: -1247.3 | BE49: -1300.3 | BF49: -1130 | BG49: -1090.7 | BH49: -1057.7 | BI49: -1215.3 | BJ49: -1234.3 | BK49: -1293.1 | BL49: -1079.7 | BM49: -1055 | BN49: -1009 | BO49: -1162.3 | BP49: -1156.8 | BQ49: -1228.6 | BR49: -1067.5 | BS49: -1064.3 | BT49: -1064.3 | BU49: -1153.9 | BV49: -1156.5 | BW49: -1232.6 | BX49: -1082.7 | BY49: -1087.2 | BZ49: -1015.7 | CA49: -1217.8 | CB49: -1200.5 | CC49: -1279.9 | CD49: -1121.9 | CE49: -1114.3 | CF49: -1153.9 | CG49: -1187 | CH49: -1188.7 | CI49: -1276.7 | CJ49: -1140.7 | CK49: -1143.7 | CL49: -1054.1 | CM49: -1225.9 | CN49: -1200.7 | CO49: -1294.8 | CP49: -1123.4 | CQ49: -1112.9 | CR49: -1024.3 | CS49: -1164.3 | CT49: -1164.3 | CU49: -1248.6 | CV49: -1061.3 | CX49: -1004.9 | CY49: -1175.4 | CZ49: -1157.4 | DA49: -1251.1 | DB49: -1162.3 | DC49: -1236.1 | DD49: -1164.6 | DE49: -1330.8 | DF49: -1469.3 | DG49: 1533.7 | DH49: -1420.9 | DI49: -1445.9 | DJ49: -1354.9 | DK49: -1425.3 | DL49: -1420.9 | DM49: -1449 | DN49: -1379.1 | DO49: -1390.7 | DP49: -1305.3 | DQ49: -1406.8 | DR49: -1392.2 | DS49: -1551.3 | DT49: 1367.9 | DU49: -1350.1 | DV49: -1249.5 | DW49: -1298.3 | DX49: -1235 | DY49: -1285 | DZ49: -1186.7 | EA49: -1255.7 | EB49: -1150.9 | EC49: -1358.8 | ED49: -1401.7 | EE49: -1524.3 | EF49: -1426.1 | EG49: -1407.1 | EH49: -1340.1 | EI49: -1463.3 | EJ49: -1387.1 | EK49: -1421 | EL49: -1308.9 | EM49: -1363.5 | EN49: -1279 | EO49: -1390.3 | EP49: -1429 | EQ49: -1468.6596

Sheet Donnees source
B1: I. Official reserve assets and other foreign currency assets (approximate market value) 4
C2: Units | D2: Scale | E2: 2018 M9 | F2: 2018 M10 | G2: 2018 M11 | H2: 2018 M12 | I2: 2019 M1 | J2: 2019 M2 | K2: 2019 M3 | L2: 2019 M4 | M2: 2019 M5 | N2: 2019 M6 | O2: 2019 M7 | P2: 2019 M8 | Q2: 2019 M9 | R2: 2019 M10 | S2: 2019 M11 | T2: 2019 M12 | U2: 2020M1 | V2: 2020M2 | W2: 2020M3 | X2: 2020M4 | Y2: 2020M5 | Z2: 2020M6 | AA2: 2020M7 | AB2: 2020M8 | AC2: 2020M9
A3: MAU_RAFA_XDC | B3: A. Official reserve assets | C3: Tunisian dinar | D3: Millions | E3: 13,186.4 | F3: 14,877.9 | G3: 14,125.7 | H3: 15,547.2 | I3: 16,100.6 | J3: 16,238.7 | K3: 16.621 | L3: 22,841.2 | M3: 14,512.2 | N3: 14,720.7 | O3: 18,0325.5 | P3: 18,984.7 | Q3: 19,730.2 | R3: 19,980.5 | S3: 20,467.5 | T3: 20,774.7 | U3: 21,011.9 | V3: 20,685.6 | W3: 21,726.6 | X3: 22,841.2 | Y3: 23 ,026,2 | Z3: 21,865.8 | AA3: 22,653.7 | AB3: 22,742.6 | AC3: 22,841.3
A4: MAU_RAFAFX_XDC | B4: (1) Foreign currency reserves (in convertible foreign currencies) | C4: Tunisian dinar | D4: Millions | E4: 10,307.113 | F4: 12,153.953 | G4: 11,787.420 | H4: 13,281.173 | I4: 13,708.353 | J4: 14,040.945 | K4: 14,470.418 | L4: 20,249.9 | M4: 12,269.343 | N4: 12,195.6 | O4: 15,048.6 | P4: 15,301.508 | Q4: 15,975.7 | R4: 16,438.9 | S4: 17,131.5 | T4: 17,531.6 | U4: 17,443.3 | V4: 17,898.3 | W4: 19,210.1 | X4: 20,249.9 | Y4: 20,449,5 | Z4: 19,221.3 | AA4: 19,729.1 | AB4: 19,519.8 | AC4: 19,486.1
A5: MAU_RAFAFXS_XDC | B5: (a) Securities | C5: Tunisian dinar | D5: Millions | E5: 5,053.6 | F5: 4,931.4 | G5: 4,471.8 | H5: 4,259.4 | I5: 4,318.3 | J5: 5,041.7 | K5: 4,711.6 | L5: 8,472.7 | M5: 3,888.1 | N5: 3,376.4 | O5: 3,498.5 | P5: 3,556.0 | Q5: 4,364.8 | R5: 3,379.4 | S5: 5,628.6 | T5: 5,177.7 | U5: 5,001.6 | V5: 6,174.7 | W5: 8,716.3 | X5: 8,472.7 | Y5: 10, 907,0 | Z5: 10,820.0 | AA5: 10,777.7 | AB5: 13,302.7 | AC5: 13,936.8
A6: MAU_RAFAFXSI_XDC | B6: of which: issuer headquartered in reporting country but located abroad | C6: Tunisian dinar | D6: Millions
A7: MAU_RAFAFXCD_XDC | B7: (b) total currency and deposits with: | C7: Tunisian dinar | D7: Millions
A8: MAU_RAFAFXCDN_XDC | B8: (i) other national central banks, BIS and IMF | C8: Tunisian dinar | D8: Millions | E8: 698.8 | F8: 473.2 | G8: 380.1 | H8: 1299.3 | I8: 1144.2 | J8: 673.3 | K8: 1289.7 | L8: 1,001.3 | M8: 769.0 | N8: 554.0 | O8: 153.3 | P8: 353.6 | Q8: 713.2 | R8: 693.7 | S8: 1,605.4 | T8: 1,965.2 | U8: 1,347.1 | V8: 1,078.4 | W8: 1,052.6 | X8: 1,001.3 | Y8: 914.3 | Z8: 872.1 | AA8: 674 | AB8: 636 | AC8: 493.2
A9: MAU_RAFAFXCDBI_XDC | B9: (ii) banks headquartered in the reporting country | C9: Tunisian dinar | D9: Millions
A10: MAU_RAFAFXCDBIA_XDC | B10: of which: located abroad | C10: Tunisian dinar | D10: Millions
A11: MAU_RAFAFXCDBO_XDC | B11: (iii) banks headquartered outside the reporting country | C11: Tunisian dinar | D11: Millions | E11: 4554.7 | F11: 6749.4 | G11: 6935.5 | H11: 7722.5 | I11: 8245.8 | J11: 8326.0 | K11: 8469.1 | L11: 10080.2 | M11: 7612.2 | N11: 8265.2 | O11: 11,396.8 | P11: 11,391.8 | Q11: 10,897.7 | R11: 11,765.9 | S11: 9,897.5 | T11: 10,388.7 | U11: 11,094.6 | V11: 10,645.1 | W11: 9441.3 | X11: 10080.2 | Y11: 8628.2 | Z11: 7,529.3 | AA11: 8277.4 | AB11: 5,580.8 | AC11: 5,056.1
A12: MAU_RAFAFXCDBOA_XDC | B12: of which: located in the reporting country | C12: Tunisian dinar | D12: Millions
A13: MAU_RAFAIMF_XDC | B13: (2) IMF reserve position | C13: Tunisian dinar | D13: Millions | E13: 423.9 | F13: 423.9 | G13: 423.9 | H13: 423.9 | I13: 423.9 | J13: 423.9 | K13: 423.9 | L13: 64.0 | M13: 423.9 | N13: 503.9 | O13: 503.9 | P13: 503.9 | Q13: 506.1 | R13: 506.1 | S13: 506.1 | T13: 506.1 | U13: 506.1 | V13: 506.1 | W13: 506.1 | X13: 64.0 | Y13: 506.1 | Z13: 482.3 | AA13: 482.3 | AB13: 482.3 | AC13: 482.3
A14: MAU_RAFASDR_XDC | B14: (3) SDRs | C14: Tunisian dinar | D14: Millions | E14: 110.0 | F14: 106.2 | G14: 74.7 | H14: 75.2 | I14: 139.9 | J14: 59.4 | K14: 58.7 | L14: 155.0 | M14: 11.7 | N14: 150.1 | O14: 148.7 | P14: 114.3 | Q14: 114.1 | R14: 55.7 | S14: 24.5 | T14: 24.2 | U14: 180.1 | V14: 154.1 | W14: 155.0 | X14: 155.0 | Y14: 40.0 | Z14: 39.9 | AA14: 39.2 | AB14: 4.3 | AC14: 160.6
A15: MAU_RAFAGOLD_XDC | B15: (4) gold (including gold deposits and, if appropriate, gold swapped) 5 | C15: Tunisian dinar | D15: Millions | E15: 442.7 | F15: 468.5 | G15: 478.4 | H15: 512.9 | I15: 531.5 | J15: 533.4 | K15: 517.5 | L15: 633.4 | M15: 516.0 | N15: 542.3 | O15: 549.4 | P15: 584.4 | Q15: 569.1 | R15: 567.8 | S15: 555.8 | T15: 569.5 | U15: 596.1 | V15: 621.2 | W15: 621.2 | X15: 633.4 | Y15: 659.7 | Z15: 674.9 | AA15: 715.5 | AB15: 711.6 | AC15: 695.1
A16: MAU_RAFAGOLDV_OZT | B16: —volume in fine troy ounces | C16: Ounces | D16: Millions
A17: MAU_RAFAO_XDC | B17: (5) other reserve assets (specify) | C17: Tunisian dinar | D17: Millions | E17: 1902.7 | F17: 1725.3 | G17: 1361.2 | H17: 1254 | I17: 1296.9 | J17: 1181.0 | K17: 1150.0 | L17: 1,232.7 | M17: 1291.2 | N17: 1328.7 | O17: 1328.7 | P17: 2480.7 | Q17: 2,565.3 | R17: 2,412.1 | S17: 2,249.4 | T17: 2,143.3 | U17: 2,286.3 | V17: 1,505.9 | W17: 1,232.7 | X17: 1,232.7 | Y17: 1,370.8 | Z17: 1,447.4 | AA17: 1,687.6 | AB17: 2,024.6 | AC17: 2,017.2
A18: MAU_RAFAOF_XDC | B18: —financial derivatives | C18: Tunisian dinar | D18: Millions
A19: MAU_RAFAOL_XDC | B19: —loans to nonbank nonresidents | C19: Tunisian dinar | D19: Millions
A20: MAU_RAFAOO_XDC | B20: —other | C20: Tunisian dinar | D20: Millions
A21: MAU_RAOFA_XDC | B21: B. Other foreign currency assets (specify) | C21: Tunisian dinar | D21: Millions
A22: MAU_RAOFAS_XDC | B22: —securities not included in official reserve assets | C22: Tunisian dinar | D22: Millions
A23: MAU_RAOFAD_XDC | B23: —deposits not included in official reserve assets | C23: Tunisian dinar | D23: Millions
A24: MAU_RAOFAL_XDC | B24: —loans not included in official reserve assets | C24: Tunisian dinar | D24: Millions
A25: MAU_RAOFAF_XDC | B25: —financial derivatives not included in official reserve assets | C25: Tunisian dinar | D25: Millions
A26: MAU_RAOFAG_XDC | B26: —gold not included in official reserve assets | C26: Tunisian dinar | D26: Millions
A27: MAU_RAOFAO_XDC | B27: —other | C27: Tunisian dinar | D27: Millions
B31: II. Predetermined short-term net drains on foreign currency assets (nominal value)
B32: 1. Foreign currency loans, securities, and deposits 6 | E32: 2018 M9 | F32: 2018 M10 | G32: 2018 M11 | H32: 2018 M12 | I32: 2019 M1 | J32: 2019 M2 | K32: 2019 M3 | L32: 2019 M4 | M32: 2019 M5 | N32: 2019 M6 | O32: 2019 M7 | P32: 2019 M8 | Q32: 2019 M9 | R32: 2019 M10 | S32: 2019 M11 | T32: 2019 M12 | U32: 2020M1 | V32: 2020M2 | W32: 2020M3 | X32: 2020M4 | Y32: 2020M5 | Z32: 2020M6 | AA32: 2020M7 | AB32: 2020M8 | AC32: 2020M9
A33: MAU_RAPFALSD_XDC | B33: Total | C33: Tunisian dinar | D33: Millions | E33: -7776.3 | F33: -8149.6 | G33: -7698.9 | H33: -8855.8 | I33: -6377.6 | J33: -8486.4 | K33: -6467.6 | L33: -6458.1 | M33: -6528.3 | N33: -7884.8 | O33: -8750.8 | P33: -8542.3 | Q33: -4156.2 | R33: -8621.5 | S33: -8678 | T33: -8768.5 | U33: -8268.1 | V33: -7843.8 | W33: -8531.3 | X33: -4499.7 | Y33: -6372.2 | Z33: -3720.5 | AA33: -6657 | AB33: -7995.3 | AC33: -8101.3
A34: MAU_RAPFALSD_1M_XDC | B34: Up to 1 month | C34: Tunisian dinar | D34: Millions | E34: -1837.3 | F34: -1895.8 | G34: -1582.1 | H34: -3014.7 | I34: -474.5 | J34: -2562 | K34: -1194.1 | L34: -155 | M34: -414.5 | N34: -1868.1 | O34: -2416.7 | P34: -2291.2 | Q34: 1729.8 | R34: -2271.4 | S34: -2405.8 | T34: -2661.2 | U34: -2073.9 | V34: -1616.6 | W34: -3104.1 | X34: 1563.2 | Y34: -1541.5 | Z34: 797.8 | AA34: -193.8 | AB34: -261.8 | AC34: -482.6
A35: MAU_RAPFALSD_1M_3M_XDC | B35: More than 1 and up to 3 months | C35: Tunisian dinar | D35: Millions | E35: -543.2 | F35: -942.5 | G35: -1009.7 | H35: -789.9 | I35: -1402.4 | J35: -1174.9 | K35: -541.5 | L35: -2143.4 | M35: -1995.7 | N35: -679.8 | O35: -969.8 | P35: -764.1 | Q35: -572.9 | R35: -808.8 | S35: -965.1 | T35: -864 | U35: -1553.6 | V35: -1527.3 | W35: -1886.2 | X35: -2073.7 | Y35: -778.6 | Z35: -570.3 | AA35: -851.1 | AB35: -775.3 | AC35: -566.4
A36: MAU_RAPFALSD_3M_1Y_XDC | B36: More than 3 months and up to 1 year | C36: Tunisian dinar | D36: Millions | E36: -5395.8 | F36: -5311.3 | G36: -5107.1 | H36: -5051.2 | I36: -4500.7 | J36: -4749.5 | K36: -4732 | L36: -4159.7 | M36: -4118.1 | N36: -5336.9 | O36: -5364.3 | P36: -5487 | Q36: -5313.1 | R36: -5541.3 | S36: -5307.1 | T36: -5243.3 | U36: -4640.6 | V36: -4845.4 | W36: 3541 | X36: -3989.2 | Y36: -4052.1 | Z36: -3948 | AA36: -5612.1 | AB36: 6958.2 | AC36: 7052.3
B38: III. Contingent short-term net drains on foreign currency assets (nominal value)
B39: (b) Other contingent liabilities | E39: 2018 M9 | F39: 2018 M10 | G39: 2018 M11 | H39: 2018 M12 | I39: 2019 M1 | J39: 2019 M2 | K39: 2019 M3 | L39: 2019 M4 | M39: 2019 M5 | N39: 2019 M6 | O39: 2019 M7 | P39: 2019 M8 | Q39: 2019 M9 | R39: 2019 M10 | S39: 2019 M11 | T39: 2019 M12 | U39: 2020M1 | V39: 2020M2 | W39: 2020M3 | X39: 2020M4 | Y39: 2020M5 | Z39: 2020M6 | AA39: 2020M7 | AB39: 2020M8 | AC39: 2020M9
A40: MAU_RACFAL_XDC | B40: Total | C40: Tunisian dinar | D40: Millions | E40: =E41+E42+E43 -> -1463 | F40: -1439.7 | G40: =G41+G42+G43 -> -1448.7 | H40: =H41+H42+H43 -> -1470.3 | I40: =I41+I42+I43 -> -1506 | J40: =J41+J42+J43 -> -1533.3 | K40: =K41+K42+K43 -> -1531.1 | L40: =L41+L42+L43 -> -1547.4 | M40: =M41+M42+M43 -> -1557.4 | N40: -1550.1 | O40: -1519.9 | P40: -1549.1 | Q40: =Q41+Q42+Q43 -> -1543.4 | R40: -1560 | S40: -1553.6 | T40: -1493.8 | U40: -1456.9 | V40: -1485.7 | W40: -1487.6 | X40: -1493.5 | Y40: -1493.5 | Z40: -1482 | AA40: -1482.2 | AB40: -1493.1 | AC40: -1496.8
A41: MAU_RACFAL_1M_XDC | B41: Up to 1 month | C41: Tunisian dinar | D41: Millions | E41: -93.3 | F41: -109.5 | G41: -253.6 | H41: -75.6 | I41: -130.8 | J41: -64.3 | K41: -63.6 | L41: -105.1 | M41: -232.4 | N41: -119.2 | O41: -148.1 | P41: -67.5 | Q41: -70 | R41: -118.5 | S41: -275.2 | T41: -111.3 | U41: -158.1 | V41: -62.1 | W41: -79.9 | X41: -115.1 | Y41: -115.1 | Z41: -89 | AA41: -177.3 | AB41: -61.8 | AC41: 86.6
A42: MAU_RACFAL_1M_3M_XDC | B42: More than 1 and up to 3 months | C42: Tunisian dinar | D42: Millions | E42: -363.1 | F42: -329.2 | G42: -206.4 | H42: -195.1 | I42: -127.9 | J42: -168.7 | K42: -337.5 | L42: -351.6 | M42: -267.3 | N42: -215.6 | O42: -137.5 | P42: -188.5 | Q42: -393.7 | R42: -386.5 | S42: -269.4 | T42: -220.2 | U42: -142 | V42: -195 | W42: -340.2 | X42: -314.1 | Y42: -314.1 | Z42: -239.1 | AA42: -148.4 | AB42: -198.7 | AC42: -327.5
A43: MAU_RACFAL_3M_1Y_XDC | B43: More than 3 months and up to 1 year | C43: Tunisian dinar | D43: Millions | E43: -1006.6 | F43: -1001 | G43: -988.7 | H43: -1199.6 | I43: -1247.3 | J43: -1300.3 | K43: -1130 | L43: -1090.7 | M43: -1057.7 | N43: -1215.3 | O43: -1234.3 | P43: -1293.1 | Q43: -1079.7 | R43: -1055 | S43: -1009 | T43: -1162.3 | U43: -1156.8 | V43: -1228.6 | W43: -1067.5 | X43: -1064.3 | Y43: -1064.3 | Z43: -1153.9 | AA43: -1156.5 | AB43: -1232.6 | AC43: -1082.7
